BEGIN:VCALENDAR
VERSION:2.0
PRODID:-//Drakelow Parish Council - ECPv6.15.18//NONSGML v1.0//EN
CALSCALE:GREGORIAN
METHOD:PUBLISH
X-WR-CALNAME:Drakelow Parish Council
X-ORIGINAL-URL:https://drakelowparish.gov.uk
X-WR-CALDESC:Events for Drakelow Parish Council
REFRESH-INTERVAL;VALUE=DURATION:PT1H
X-Robots-Tag:noindex
X-PUBLISHED-TTL:PT1H
BEGIN:VTIMEZONE
TZID:Europe/London
BEGIN:DAYLIGHT
TZOFFSETFROM:+0000
TZOFFSETTO:+0100
TZNAME:BST
DTSTART:20210328T010000
END:DAYLIGHT
BEGIN:STANDARD
TZOFFSETFROM:+0100
TZOFFSETTO:+0000
TZNAME:GMT
DTSTART:20211031T010000
END:STANDARD
BEGIN:DAYLIGHT
TZOFFSETFROM:+0000
TZOFFSETTO:+0100
TZNAME:BST
DTSTART:20220327T010000
END:DAYLIGHT
BEGIN:STANDARD
TZOFFSETFROM:+0100
TZOFFSETTO:+0000
TZNAME:GMT
DTSTART:20221030T010000
END:STANDARD
BEGIN:DAYLIGHT
TZOFFSETFROM:+0000
TZOFFSETTO:+0100
TZNAME:BST
DTSTART:20230326T010000
END:DAYLIGHT
BEGIN:STANDARD
TZOFFSETFROM:+0100
TZOFFSETTO:+0000
TZNAME:GMT
DTSTART:20231029T010000
END:STANDARD
BEGIN:DAYLIGHT
TZOFFSETFROM:+0000
TZOFFSETTO:+0100
TZNAME:BST
DTSTART:20240331T010000
END:DAYLIGHT
BEGIN:STANDARD
TZOFFSETFROM:+0100
TZOFFSETTO:+0000
TZNAME:GMT
DTSTART:20241027T010000
END:STANDARD
BEGIN:DAYLIGHT
TZOFFSETFROM:+0000
TZOFFSETTO:+0100
TZNAME:BST
DTSTART:20250330T010000
END:DAYLIGHT
BEGIN:STANDARD
TZOFFSETFROM:+0100
TZOFFSETTO:+0000
TZNAME:GMT
DTSTART:20251026T010000
END:STANDARD
BEGIN:DAYLIGHT
TZOFFSETFROM:+0000
TZOFFSETTO:+0100
TZNAME:BST
DTSTART:20260329T010000
END:DAYLIGHT
BEGIN:STANDARD
TZOFFSETFROM:+0100
TZOFFSETTO:+0000
TZNAME:GMT
DTSTART:20261025T010000
END:STANDARD
BEGIN:DAYLIGHT
TZOFFSETFROM:+0000
TZOFFSETTO:+0100
TZNAME:BST
DTSTART:20270328T010000
END:DAYLIGHT
BEGIN:STANDARD
TZOFFSETFROM:+0100
TZOFFSETTO:+0000
TZNAME:GMT
DTSTART:20271031T010000
END:STANDARD
END:VTIMEZONE
BEGIN:VEVENT
DTSTART;TZID=Europe/London:20260114T190000
DTEND;TZID=Europe/London:20260114T210000
DTSTAMP:20260421T233841
CREATED:20251119T163601Z
LAST-MODIFIED:20251119T164916Z
UID:7785-1768417200-1768424400@drakelowparish.gov.uk
SUMMARY:Parish Council Meeting
DESCRIPTION:This meeting will be held at Immanuel  Church Hall \, Stapenhill.  Members of the public are welcome to attend; please see the agenda for more details.
URL:https://drakelowparish.gov.uk/event/parish-council-meeting-4
END:VEVENT
BEGIN:VEVENT
DTSTART;TZID=Europe/London:20260114T190000
DTEND;TZID=Europe/London:20260114T190000
DTSTAMP:20260421T233841
CREATED:20260115T170155Z
LAST-MODIFIED:20260115T170155Z
UID:7949-1768417200-1768417200@drakelowparish.gov.uk
SUMMARY:Meeting Minutes - January 2026
DESCRIPTION:This meeting will be held at Immanuel Stapenhill Church Hall. Members of the public are welcome to attend; please see the agenda for more details.
URL:https://drakelowparish.gov.uk/event/meeting-minutes-january-2026
LOCATION:Immanuel Church Hall\, Hawthorn Crescent\, Stapenhill
CATEGORIES:Parish Council Meetings
END:VEVENT
BEGIN:VEVENT
DTSTART;TZID=Europe/London:20260114T190000
DTEND;TZID=Europe/London:20260114T190000
DTSTAMP:20260421T233841
CREATED:20260108T163520Z
LAST-MODIFIED:20260108T163520Z
UID:7938-1768417200-1768417200@drakelowparish.gov.uk
SUMMARY:Meeting Agenda Wednesday 14th January 2026
DESCRIPTION:This meeting will be held at Immanuel Stapenhill Church Hall. Members of the public are welcome to attend; please see the agenda for more details.
URL:https://drakelowparish.gov.uk/event/meeting-agenda-wednesday-14th-january-2026
LOCATION:Immanuel Church Hall\, Hawthorn Crescent\, Stapenhill
CATEGORIES:Parish Council Meetings
END:VEVENT
BEGIN:VEVENT
DTSTART;TZID=Europe/London:20251215T190000
DTEND;TZID=Europe/London:20251215T190000
DTSTAMP:20260421T233841
CREATED:20251215T094241Z
LAST-MODIFIED:20251215T094241Z
UID:7905-1765825200-1765825200@drakelowparish.gov.uk
SUMMARY:Draft Parish Council Meeting Minutes - December 2025
DESCRIPTION:This meeting will be held at Immanuel Stapenhill Church Hall. Members of the public are welcome to attend; please see the agenda for more details.
URL:https://drakelowparish.gov.uk/event/draft-parish-council-meeting-minutes-december-2025
LOCATION:Immanuel Church Hall\, Hawthorn Crescent\, Stapenhill
CATEGORIES:Parish Council Meetings
END:VEVENT
BEGIN:VEVENT
DTSTART;TZID=Europe/London:20251210T190000
DTEND;TZID=Europe/London:20251210T190000
DTSTAMP:20260421T233841
CREATED:20251118T170201Z
LAST-MODIFIED:20251118T170201Z
UID:7748-1765393200-1765393200@drakelowparish.gov.uk
SUMMARY:Parish Council Meeting
DESCRIPTION:This meeting will be held at Immanuel Stapenhill Church Hall. Members of the public are welcome to attend; please see the agenda for more details.
URL:https://drakelowparish.gov.uk/event/parish-council-meeting
LOCATION:Immanuel Church Hall\, Hawthorn Crescent\, Stapenhill
CATEGORIES:Parish Council Meetings
END:VEVENT
BEGIN:VEVENT
DTSTART;TZID=Europe/London:20251204T190000
DTEND;TZID=Europe/London:20251204T190000
DTSTAMP:20260421T233841
CREATED:20251204T105254Z
LAST-MODIFIED:20251204T105254Z
UID:7884-1764874800-1764874800@drakelowparish.gov.uk
SUMMARY:December Parish Council Meeting
DESCRIPTION:This meeting will be held at Immanuel Stapenhill Church Hall. Members of the public are welcome to attend; please see the agenda for more details.
URL:https://drakelowparish.gov.uk/event/december-parish-council-meeting
LOCATION:Immanuel Church Hall\, Hawthorn Crescent\, Stapenhill
CATEGORIES:Parish Council Meetings
END:VEVENT
BEGIN:VEVENT
DTSTART;TZID=Europe/London:20251124T190000
DTEND;TZID=Europe/London:20251124T190000
DTSTAMP:20260421T233841
CREATED:20251124T175501Z
LAST-MODIFIED:20251124T175501Z
UID:7861-1764010800-1764010800@drakelowparish.gov.uk
SUMMARY:Meeting Minutes - November 2025
DESCRIPTION:This meeting will be held at Immanuel Stapenhill Church Hall. Members of the public are welcome to attend; please see the agenda for more details.
URL:https://drakelowparish.gov.uk/event/meeting-minutes-november-2025
LOCATION:Immanuel Church Hall\, Hawthorn Crescent\, Stapenhill
CATEGORIES:Parish Council Meetings
END:VEVENT
BEGIN:VEVENT
DTSTART;TZID=Europe/London:20251120T190000
DTEND;TZID=Europe/London:20251120T190000
DTSTAMP:20260421T233841
CREATED:20251120T121625Z
LAST-MODIFIED:20251120T121625Z
UID:7849-1763665200-1763665200@drakelowparish.gov.uk
SUMMARY:Meeting Minutes - October Meeting
DESCRIPTION:This meeting will be held at Immanuel Stapenhill Church Hall. Members of the public are welcome to attend; please see the agenda for more details.
URL:https://drakelowparish.gov.uk/event/meeting-minutes-october-meeting
LOCATION:Immanuel Church Hall\, Hawthorn Crescent\, Stapenhill
CATEGORIES:Parish Council Meetings
END:VEVENT
BEGIN:VEVENT
DTSTART;TZID=Europe/London:20251112T190000
DTEND;TZID=Europe/London:20251112T190000
DTSTAMP:20260421T233841
CREATED:20251106T201751Z
LAST-MODIFIED:20251118T170223Z
UID:7707-1762974000-1762974000@drakelowparish.gov.uk
SUMMARY:Parish Council Meeting
DESCRIPTION:This meeting will be held at Immanuel Stapenhill Church Hall. Members of the public are welcome to attend; please see the agenda for more details.
URL:https://drakelowparish.gov.uk/event/7707
LOCATION:Immanuel Church Hall\, Hawthorn Crescent\, Stapenhill
CATEGORIES:Parish Council Meetings
END:VEVENT
BEGIN:VEVENT
DTSTART;TZID=Europe/London:20251008T190000
DTEND;TZID=Europe/London:20251008T190000
DTSTAMP:20260421T233841
CREATED:20251002T094332Z
LAST-MODIFIED:20251118T170243Z
UID:7653-1759950000-1759950000@drakelowparish.gov.uk
SUMMARY:Parish Council Meeting
DESCRIPTION:This meeting will be held at Immanuel Stapenhill Church Hall. Members of the public are welcome to attend; please see the agenda for more details.
URL:https://drakelowparish.gov.uk/event/7653
LOCATION:Immanuel Church Hall\, Hawthorn Crescent\, Stapenhill
CATEGORIES:Parish Council Meetings
END:VEVENT
BEGIN:VEVENT
DTSTART;TZID=Europe/London:20250910T190000
DTEND;TZID=Europe/London:20250910T190000
DTSTAMP:20260421T233841
CREATED:20250904T094630Z
LAST-MODIFIED:20250904T094630Z
UID:7607-1757530800-1757530800@drakelowparish.gov.uk
SUMMARY:Meeting Agenda 10th September 2025
DESCRIPTION:This meeting will be held at Immanuel Stapenhill Church Hall. Members of the public are welcome to attend; please see the agenda for more details.
URL:https://drakelowparish.gov.uk/event/meeting-agenda-10th-september-2025
LOCATION:Immanuel Church Hall\, Hawthorn Crescent\, Stapenhill
CATEGORIES:Parish Council Meetings
END:VEVENT
BEGIN:VEVENT
DTSTART;TZID=Europe/London:20250709T190000
DTEND;TZID=Europe/London:20250709T190000
DTSTAMP:20260421T233841
CREATED:20250702T123317Z
LAST-MODIFIED:20250703T185352Z
UID:7522-1752087600-1752087600@drakelowparish.gov.uk
SUMMARY:Meeting Agenda - 9th July 2025
DESCRIPTION:This meeting will be held at Walton Village Hall. Members of the public are welcome to attend; please see the agenda for more details.
URL:https://drakelowparish.gov.uk/event/meeting-agenda-9th-july-2025
LOCATION:Walton Village Hall\, 34\, Main Street\, DE12 8
CATEGORIES:Parish Council Meetings
END:VEVENT
BEGIN:VEVENT
DTSTART;TZID=Europe/London:20250624T190000
DTEND;TZID=Europe/London:20250624T190000
DTSTAMP:20260421T233841
CREATED:20250624T200339Z
LAST-MODIFIED:20250624T200339Z
UID:7496-1750791600-1750791600@drakelowparish.gov.uk
SUMMARY:Draft Minutes - Council Meeting 14th May 2025
DESCRIPTION:This meeting will be held at Immanuel Stapenhill Church Hall. Members of the public are welcome to attend; please see the agenda for more details.
URL:https://drakelowparish.gov.uk/event/draft-minutes-council-meeting-14th-may-2025
LOCATION:Immanuel Church Hall\, Hawthorn Crescent\, Stapenhill
CATEGORIES:Parish Council Meetings
END:VEVENT
BEGIN:VEVENT
DTSTART;TZID=Europe/London:20241119T190000
DTEND;TZID=Europe/London:20241119T210000
DTSTAMP:20260421T233841
CREATED:20240924T100734Z
LAST-MODIFIED:20240924T100734Z
UID:6922-1732042800-1732050000@drakelowparish.gov.uk
SUMMARY:Drakelow Parish Council
DESCRIPTION:
URL:https://drakelowparish.gov.uk/event/drakelow-parish-meeting
LOCATION:Immanuel Church Hall\, Hawthorn Crescent\, Stapenhill
END:VEVENT
BEGIN:VEVENT
DTSTART;TZID=Europe/London:20241119T190000
DTEND;TZID=Europe/London:20241119T190000
DTSTAMP:20260421T233841
CREATED:20250516T120431Z
LAST-MODIFIED:20250516T120431Z
UID:7387-1732042800-1732042800@drakelowparish.gov.uk
SUMMARY:Minutes 19/11/24
DESCRIPTION:This meeting will be held at Immanuel Stapenhill Church Hall. Members of the public are welcome to attend; please see the agenda for more details.
URL:https://drakelowparish.gov.uk/event/minutes-19-11-24
LOCATION:Immanuel Church Hall\, Hawthorn Crescent\, Stapenhill
CATEGORIES:Parish Council Meetings
END:VEVENT
BEGIN:VEVENT
DTSTART;TZID=Europe/London:20231121T190000
DTEND;TZID=Europe/London:20231121T210000
DTSTAMP:20260421T233841
CREATED:20231014T091933Z
LAST-MODIFIED:20231014T093642Z
UID:6246-1700593200-1700600400@drakelowparish.gov.uk
SUMMARY:Parish  Meeting 21/11/23 7pm
DESCRIPTION:
URL:https://drakelowparish.gov.uk/event/parish-meeting-21-11-23-7pm
CATEGORIES:blog,Parish Council Meetings
END:VEVENT
BEGIN:VEVENT
DTSTART;TZID=Europe/London:20221121T190000
DTEND;TZID=Europe/London:20221121T190000
DTSTAMP:20260421T233841
CREATED:20221006T135517Z
LAST-MODIFIED:20221130T113436Z
UID:5333-1669057200-1669057200@drakelowparish.gov.uk
SUMMARY:Parish Meeting
DESCRIPTION:This meeting will be held at Immanuel Stapenhill Church Hall. Members of the public are welcome to attend; please see the agenda for more details.
URL:https://drakelowparish.gov.uk/event/parish-committee-meeting
LOCATION:Immanuel Church Hall\, Hawthorn Crescent\, Stapenhill
CATEGORIES:Parish Council Meetings
END:VEVENT
BEGIN:VEVENT
DTSTART;TZID=Europe/London:20221108T080000
DTEND;TZID=Europe/London:20221108T170000
DTSTAMP:20260421T233841
CREATED:20221108T114316Z
LAST-MODIFIED:20221108T114316Z
UID:5522-1667894400-1667926800@drakelowparish.gov.uk
SUMMARY:Parish Meeting
DESCRIPTION:
URL:https://drakelowparish.gov.uk/event/parish-meeting
END:VEVENT
END:VCALENDAR