BEGIN:VCALENDAR
VERSION:2.0
PRODID:-//Drakelow Parish Council - ECPv6.15.18//NONSGML v1.0//EN
CALSCALE:GREGORIAN
METHOD:PUBLISH
X-WR-CALNAME:Drakelow Parish Council
X-ORIGINAL-URL:https://drakelowparish.gov.uk
X-WR-CALDESC:Events for Drakelow Parish Council
REFRESH-INTERVAL;VALUE=DURATION:PT1H
X-Robots-Tag:noindex
X-PUBLISHED-TTL:PT1H
BEGIN:VTIMEZONE
TZID:Europe/London
BEGIN:DAYLIGHT
TZOFFSETFROM:+0000
TZOFFSETTO:+0100
TZNAME:BST
DTSTART:20240331T010000
END:DAYLIGHT
BEGIN:STANDARD
TZOFFSETFROM:+0100
TZOFFSETTO:+0000
TZNAME:GMT
DTSTART:20241027T010000
END:STANDARD
BEGIN:DAYLIGHT
TZOFFSETFROM:+0000
TZOFFSETTO:+0100
TZNAME:BST
DTSTART:20250330T010000
END:DAYLIGHT
BEGIN:STANDARD
TZOFFSETFROM:+0100
TZOFFSETTO:+0000
TZNAME:GMT
DTSTART:20251026T010000
END:STANDARD
BEGIN:DAYLIGHT
TZOFFSETFROM:+0000
TZOFFSETTO:+0100
TZNAME:BST
DTSTART:20260329T010000
END:DAYLIGHT
BEGIN:STANDARD
TZOFFSETFROM:+0100
TZOFFSETTO:+0000
TZNAME:GMT
DTSTART:20261025T010000
END:STANDARD
BEGIN:DAYLIGHT
TZOFFSETFROM:+0000
TZOFFSETTO:+0100
TZNAME:BST
DTSTART:20270328T010000
END:DAYLIGHT
BEGIN:STANDARD
TZOFFSETFROM:+0100
TZOFFSETTO:+0000
TZNAME:GMT
DTSTART:20271031T010000
END:STANDARD
END:VTIMEZONE
BEGIN:VEVENT
DTSTART;TZID=Europe/London:20251210T190000
DTEND;TZID=Europe/London:20251210T190000
DTSTAMP:20260422T023816
CREATED:20251118T170201Z
LAST-MODIFIED:20251118T170201Z
UID:7748-1765393200-1765393200@drakelowparish.gov.uk
SUMMARY:Parish Council Meeting
DESCRIPTION:This meeting will be held at Immanuel Stapenhill Church Hall. Members of the public are welcome to attend; please see the agenda for more details.
URL:https://drakelowparish.gov.uk/event/parish-council-meeting
LOCATION:Immanuel Church Hall\, Hawthorn Crescent\, Stapenhill
CATEGORIES:Parish Council Meetings
END:VEVENT
BEGIN:VEVENT
DTSTART;TZID=Europe/London:20251215T190000
DTEND;TZID=Europe/London:20251215T190000
DTSTAMP:20260422T023816
CREATED:20251215T094241Z
LAST-MODIFIED:20251215T094241Z
UID:7905-1765825200-1765825200@drakelowparish.gov.uk
SUMMARY:Draft Parish Council Meeting Minutes - December 2025
DESCRIPTION:This meeting will be held at Immanuel Stapenhill Church Hall. Members of the public are welcome to attend; please see the agenda for more details.
URL:https://drakelowparish.gov.uk/event/draft-parish-council-meeting-minutes-december-2025
LOCATION:Immanuel Church Hall\, Hawthorn Crescent\, Stapenhill
CATEGORIES:Parish Council Meetings
END:VEVENT
BEGIN:VEVENT
DTSTART;TZID=Europe/London:20260114T190000
DTEND;TZID=Europe/London:20260114T190000
DTSTAMP:20260422T023816
CREATED:20260108T163520Z
LAST-MODIFIED:20260108T163520Z
UID:7938-1768417200-1768417200@drakelowparish.gov.uk
SUMMARY:Meeting Agenda Wednesday 14th January 2026
DESCRIPTION:This meeting will be held at Immanuel Stapenhill Church Hall. Members of the public are welcome to attend; please see the agenda for more details.
URL:https://drakelowparish.gov.uk/event/meeting-agenda-wednesday-14th-january-2026
LOCATION:Immanuel Church Hall\, Hawthorn Crescent\, Stapenhill
CATEGORIES:Parish Council Meetings
END:VEVENT
BEGIN:VEVENT
DTSTART;TZID=Europe/London:20260114T190000
DTEND;TZID=Europe/London:20260114T190000
DTSTAMP:20260422T023816
CREATED:20260115T170155Z
LAST-MODIFIED:20260115T170155Z
UID:7949-1768417200-1768417200@drakelowparish.gov.uk
SUMMARY:Meeting Minutes - January 2026
DESCRIPTION:This meeting will be held at Immanuel Stapenhill Church Hall. Members of the public are welcome to attend; please see the agenda for more details.
URL:https://drakelowparish.gov.uk/event/meeting-minutes-january-2026
LOCATION:Immanuel Church Hall\, Hawthorn Crescent\, Stapenhill
CATEGORIES:Parish Council Meetings
END:VEVENT
BEGIN:VEVENT
DTSTART;TZID=Europe/London:20260114T190000
DTEND;TZID=Europe/London:20260114T210000
DTSTAMP:20260422T023816
CREATED:20251119T163601Z
LAST-MODIFIED:20251119T164916Z
UID:7785-1768417200-1768424400@drakelowparish.gov.uk
SUMMARY:Parish Council Meeting
DESCRIPTION:This meeting will be held at Immanuel  Church Hall \, Stapenhill.  Members of the public are welcome to attend; please see the agenda for more details.
URL:https://drakelowparish.gov.uk/event/parish-council-meeting-4
END:VEVENT
BEGIN:VEVENT
DTSTART;TZID=Europe/London:20260211T190000
DTEND;TZID=Europe/London:20260211T190000
DTSTAMP:20260422T023816
CREATED:20260205T163034Z
LAST-MODIFIED:20260205T163113Z
UID:7974-1770836400-1770836400@drakelowparish.gov.uk
SUMMARY:Meeting Agenda - Wednesday 11th February 2026
DESCRIPTION:This meeting will be held at Immanuel Stapenhill Church Hall. Members of the public are welcome to attend; please see the agenda for more details.
URL:https://drakelowparish.gov.uk/event/7974
LOCATION:Immanuel Church Hall\, Hawthorn Crescent\, Stapenhill
CATEGORIES:Parish Council Meetings
END:VEVENT
BEGIN:VEVENT
DTSTART;TZID=Europe/London:20260211T190000
DTEND;TZID=Europe/London:20260211T210000
DTSTAMP:20260422T023816
CREATED:20251119T163654Z
LAST-MODIFIED:20251119T164957Z
UID:7788-1770836400-1770843600@drakelowparish.gov.uk
SUMMARY:Parish Council Meeting
DESCRIPTION:This meeting will be held at Immanuel  Church Hall \, Stapenhill.  Members of the public are welcome to attend; please see the agenda for more details.
URL:https://drakelowparish.gov.uk/event/parish-council-meeting-5
END:VEVENT
BEGIN:VEVENT
DTSTART;TZID=Europe/London:20260223T190000
DTEND;TZID=Europe/London:20260223T190000
DTSTAMP:20260422T023816
CREATED:20260223T111304Z
LAST-MODIFIED:20260223T111304Z
UID:8019-1771873200-1771873200@drakelowparish.gov.uk
SUMMARY:Amended Meeting Minutes - February 2026
DESCRIPTION:This meeting will be held at Immanuel Stapenhill Church Hall. Members of the public are welcome to attend; please see the agenda for more details.
URL:https://drakelowparish.gov.uk/event/amended-meeting-minutes-february-2026
LOCATION:Immanuel Church Hall\, Hawthorn Crescent\, Stapenhill
CATEGORIES:Parish Council Meetings
END:VEVENT
BEGIN:VEVENT
DTSTART;TZID=Europe/London:20260311T190000
DTEND;TZID=Europe/London:20260311T210000
DTSTAMP:20260422T023816
CREATED:20251119T163751Z
LAST-MODIFIED:20251119T165041Z
UID:7791-1773255600-1773262800@drakelowparish.gov.uk
SUMMARY:Parish Council Meeting
DESCRIPTION:This meeting will be held at Immanuel  Church Hall \, Stapenhill.  Members of the public are welcome to attend; please see the agenda for more details.
URL:https://drakelowparish.gov.uk/event/parish-council-meeting-6
END:VEVENT
BEGIN:VEVENT
DTSTART;TZID=Europe/London:20260312T190000
DTEND;TZID=Europe/London:20260312T190000
DTSTAMP:20260422T023816
CREATED:20260312T172713Z
LAST-MODIFIED:20260312T172713Z
UID:8052-1773342000-1773342000@drakelowparish.gov.uk
SUMMARY:Meeting Minutes - February 2026
DESCRIPTION:This meeting will be held at Immanuel Stapenhill Church Hall. Members of the public are welcome to attend; please see the agenda for more details.
URL:https://drakelowparish.gov.uk/event/meeting-minutes-february-2026
LOCATION:Immanuel Church Hall\, Hawthorn Crescent\, Stapenhill
CATEGORIES:Parish Council Meetings
END:VEVENT
BEGIN:VEVENT
DTSTART;TZID=Europe/London:20260312T190000
DTEND;TZID=Europe/London:20260312T190000
DTSTAMP:20260422T023816
CREATED:20260312T172932Z
LAST-MODIFIED:20260312T172932Z
UID:8055-1773342000-1773342000@drakelowparish.gov.uk
SUMMARY:Draft Meeting Minutes - March 2026 Meeting
DESCRIPTION:This meeting will be held at Immanuel Stapenhill Church Hall. Members of the public are welcome to attend; please see the agenda for more details.
URL:https://drakelowparish.gov.uk/event/draft-meeting-minutes-march-2026-meeting
LOCATION:Immanuel Church Hall\, Hawthorn Crescent\, Stapenhill
CATEGORIES:Parish Council Meetings
END:VEVENT
BEGIN:VEVENT
DTSTART;TZID=Europe/London:20260402T190000
DTEND;TZID=Europe/London:20260402T190000
DTSTAMP:20260422T023816
CREATED:20260402T125401Z
LAST-MODIFIED:20260402T125434Z
UID:8091-1775156400-1775156400@drakelowparish.gov.uk
SUMMARY:Meeting Agenda 8th April 2026
DESCRIPTION:This meeting will be held at Immanuel Stapenhill Church Hall. Members of the public are welcome to attend; please see the agenda for more details.
URL:https://drakelowparish.gov.uk/event/8091
LOCATION:Immanuel Church Hall\, Hawthorn Crescent\, Stapenhill
CATEGORIES:Parish Council Meetings
END:VEVENT
BEGIN:VEVENT
DTSTART;TZID=Europe/London:20260408T190000
DTEND;TZID=Europe/London:20260408T210000
DTSTAMP:20260422T023816
CREATED:20251119T163225Z
LAST-MODIFIED:20251119T165132Z
UID:7781-1775674800-1775682000@drakelowparish.gov.uk
SUMMARY:Parish Council Meeting
DESCRIPTION:This meeting will be held at Immanuel  Church Hall \, Stapenhill.  Members of the public are welcome to attend; please see the agenda for more details.
URL:https://drakelowparish.gov.uk/event/parish-council-meeting-3
END:VEVENT
BEGIN:VEVENT
DTSTART;TZID=Europe/London:20260409T190000
DTEND;TZID=Europe/London:20260409T190000
DTSTAMP:20260422T023816
CREATED:20260409T170237Z
LAST-MODIFIED:20260409T170237Z
UID:8104-1775761200-1775761200@drakelowparish.gov.uk
SUMMARY:Meeting Minutes March 2026
DESCRIPTION:This meeting will be held at Immanuel Stapenhill Church Hall. Members of the public are welcome to attend; please see the agenda for more details.
URL:https://drakelowparish.gov.uk/event/meeting-minutes-march-2026
LOCATION:Immanuel Church Hall\, Hawthorn Crescent\, Stapenhill
CATEGORIES:Parish Council Meetings
END:VEVENT
END:VCALENDAR